BEGIN:VCALENDAR
VERSION:2.0
PRODID:icalendar-ruby
CALSCALE:GREGORIAN
METHOD:PUBLISH
BEGIN:VEVENT
DTSTAMP:20260425T121157Z
UID:66-3244@donelsonfirst.com
DTSTART:20220511T233300Z
DTEND:20220512T003300Z
CLASS:PUBLIC
CREATED:20220829T133647
DESCRIPTION:First Kids meets every Wednesday @ 6:33p for a night of fun and
  time in the Word! We hope you can join us.
LAST-MODIFIED:20220829T133647
LOCATION:Kids Area Floor 2
SUMMARY:Kids 633
URL;VALUE=URI:https://donelsonfirst.com/events/kids-633/2022-05-11
ATTACH;FILENAME=71026D6A-0C7C-4C3B-A950-65BDF31996AD.JPG;FMTTYPE=image/jpeg
 :https://dq5pwpg1q8ru0.cloudfront.net/2022/08/29/11/36/47/d7717547-0366-43
 27-afd4-12c3f57f496f/71026D6A-0C7C-4C3B-A950-65BDF31996AD.JPG
END:VEVENT
END:VCALENDAR
